BEGIN:VCALENDAR
VERSION:2.0
PRODID:< http://www.open2c.de/ >
METHOD:PUBLISH
X-PUBLISHED-TTL:PT12H
BEGIN:VEVENT
CREATED:20200123T112917Z
LAST-MODIFIED:20200123T113011Z
GEO:0.000000,0.000000
DTSTAMP:20260420T083145Z
DTSTART:20200831T220000Z
DTEND:20200831T220000Z
CATEGORIES:Kinder
SUMMARY;CHARSET=UTF-8:Kindergartenbeginn für alle neuen Kindergartenkinder
DESCRIPTION;CHARSET=UTF-8:
LOCATION;CHARSET=UTF-8:
UID:35d119770444e1dfb3f9341f6ccdce4a@ce872fb9e5c5b24bfad4bad677ed96bc
END:VEVENT
END:VCALENDAR