BEGIN:VCALENDAR
VERSION:2.0
PRODID:< http://www.open2c.de/ >
METHOD:PUBLISH
X-PUBLISHED-TTL:PT12H
BEGIN:VEVENT
CREATED:20200123T112728Z
LAST-MODIFIED:20200123T112857Z
GEO:0.000000,0.000000
DTSTAMP:20260422T101806Z
DTSTART:20200802T220000Z
DTEND:20200820T220000Z
CATEGORIES:Kinder
SUMMARY;CHARSET=UTF-8:Sommerferien
DESCRIPTION;CHARSET=UTF-8:
LOCATION;CHARSET=UTF-8:
UID:164568ad65433fdd8c9b9a30f7864bef@ce872fb9e5c5b24bfad4bad677ed96bc
END:VEVENT
END:VCALENDAR