BEGIN:VCALENDAR
VERSION:2.0
PRODID:< http://www.open2c.de/ >
METHOD:PUBLISH
X-PUBLISHED-TTL:PT12H
BEGIN:VEVENT
CREATED:20200123T112252Z
LAST-MODIFIED:20200123T112351Z
GEO:0.000000,0.000000
DTSTAMP:20260422T131932Z
DTSTART:20200607T220000Z
DTEND:20200611T220000Z
CATEGORIES:Kinder
SUMMARY;CHARSET=UTF-8:Pfingstferien
DESCRIPTION;CHARSET=UTF-8:
LOCATION;CHARSET=UTF-8:
UID:09de005673ba6cd3389d895a80aa66a8@ce872fb9e5c5b24bfad4bad677ed96bc
END:VEVENT
BEGIN:VEVENT
CREATED:20200123T112408Z
LAST-MODIFIED:20200123T112718Z
GEO:0.000000,0.000000
DTSTAMP:20260422T131932Z
DTSTART:20200623T220000Z
DTEND:20200623T220000Z
CATEGORIES:Kinder
SUMMARY;CHARSET=UTF-8:Projektpräsentation (Gruppe Sonnenblume)
DESCRIPTION;CHARSET=UTF-8:
LOCATION;CHARSET=UTF-8:
UID:b3417fc62eeab4d969993a3b73d13f55@ce872fb9e5c5b24bfad4bad677ed96bc
END:VEVENT
BEGIN:VEVENT
CREATED:20200123T112540Z
LAST-MODIFIED:20200123T112651Z
GEO:0.000000,0.000000
DTSTAMP:20260422T131932Z
DTSTART:20200624T220000Z
DTEND:20200624T220000Z
CATEGORIES:Kinder
SUMMARY;CHARSET=UTF-8:Projektpräsentation (Gruppe Sonnenschein)
DESCRIPTION;CHARSET=UTF-8:
LOCATION;CHARSET=UTF-8:
UID:ff7a36b19e48dce93da1f41b1eac4151@ce872fb9e5c5b24bfad4bad677ed96bc
END:VEVENT
END:VCALENDAR