BEGIN:VCALENDAR
VERSION:2.0
PRODID:< http://www.open2c.de/ >
METHOD:PUBLISH
X-PUBLISHED-TTL:PT12H
BEGIN:VEVENT
CREATED:20200123T111646Z
LAST-MODIFIED:20200123T111750Z
GEO:0.000000,0.000000
DTSTAMP:20260422T174439Z
DTSTART:20200330T220000Z
DTEND:20200330T220000Z
CATEGORIES:Kinder
SUMMARY;CHARSET=UTF-8:Wir fahren zur Polizei (Gruppe Sonnenblume)
DESCRIPTION;CHARSET=UTF-8:
LOCATION;CHARSET=UTF-8:
UID:5bd4912d2387d8df55e7cdf28d7a6b8a@ce872fb9e5c5b24bfad4bad677ed96bc
END:VEVENT
END:VCALENDAR