BEGIN:VCALENDAR
VERSION:2.0
PRODID:< http://www.open2c.de/ >
METHOD:PUBLISH
X-PUBLISHED-TTL:PT12H
BEGIN:VEVENT
CREATED:20200123T111302Z
LAST-MODIFIED:20200123T111357Z
GEO:0.000000,0.000000
DTSTAMP:20260423T183657Z
DTSTART:20200219T230000Z
DTEND:20200219T230000Z
CATEGORIES:Kinder
SUMMARY;CHARSET=UTF-8:Fasching im Kindergarten
DESCRIPTION;CHARSET=UTF-8:
LOCATION;CHARSET=UTF-8:
UID:734b233fdef3cd09df778af0a3a24bd5@ce872fb9e5c5b24bfad4bad677ed96bc
END:VEVENT
END:VCALENDAR