BEGIN:VCALENDAR
VERSION:2.0
PRODID:< http://www.open2c.de/ >
METHOD:PUBLISH
X-PUBLISHED-TTL:PT12H
BEGIN:VEVENT
CREATED:20190925T072750Z
LAST-MODIFIED:20190925T072847Z
GEO:0.000000,0.000000
DTSTAMP:20260422T214958Z
DTSTART:20191204T230000Z
DTEND:20191204T230000Z
CATEGORIES:Kinder
SUMMARY;CHARSET=UTF-8:Nikolausfeier
DESCRIPTION;CHARSET=UTF-8:
LOCATION;CHARSET=UTF-8:
UID:0c79c513eec133ab0835b58005f84133@ce872fb9e5c5b24bfad4bad677ed96bc
END:VEVENT
BEGIN:VEVENT
CREATED:20190925T072633Z
LAST-MODIFIED:20190925T072731Z
GEO:0.000000,0.000000
DTSTAMP:20260422T214958Z
DTSTART:20191207T230000Z
DTEND:20191207T230000Z
CATEGORIES:Kinder
SUMMARY;CHARSET=UTF-8:Singen der Kindergartenkinder beim Rottenburger Christkindlmarkt
DESCRIPTION;CHARSET=UTF-8:
LOCATION;CHARSET=UTF-8:
UID:c8f9a53ef62d882592cc80042329f8ae@ce872fb9e5c5b24bfad4bad677ed96bc
END:VEVENT
BEGIN:VEVENT
CREATED:20190925T072901Z
LAST-MODIFIED:20190925T073004Z
GEO:0.000000,0.000000
DTSTAMP:20260422T214958Z
DTSTART:20191218T230000Z
DTEND:20191218T230000Z
CATEGORIES:Kinder
SUMMARY;CHARSET=UTF-8:Weihnachtsfeier
DESCRIPTION;CHARSET=UTF-8:
LOCATION;CHARSET=UTF-8:
UID:9e2499cbd03809ab295a6528e33f2949@ce872fb9e5c5b24bfad4bad677ed96bc
END:VEVENT
BEGIN:VEVENT
CREATED:20190925T073017Z
LAST-MODIFIED:20190925T073231Z
GEO:0.000000,0.000000
DTSTAMP:20260422T214958Z
DTSTART:20191222T230000Z
DTEND:20191222T230000Z
CATEGORIES:Kinder
SUMMARY;CHARSET=UTF-8:Weihnachtsferien
DESCRIPTION;CHARSET=UTF-8:
LOCATION;CHARSET=UTF-8:
UID:465a6effa8563b62b05673cef580eac1@ce872fb9e5c5b24bfad4bad677ed96bc
END:VEVENT
END:VCALENDAR