BEGIN:VCALENDAR
VERSION:2.0
PRODID:< http://www.open2c.de/ >
METHOD:PUBLISH
X-PUBLISHED-TTL:PT12H
BEGIN:VEVENT
CREATED:20190925T072750Z
LAST-MODIFIED:20190925T072847Z
GEO:0.000000,0.000000
DTSTAMP:20260423T211648Z
DTSTART:20191204T230000Z
DTEND:20191204T230000Z
CATEGORIES:Kinder
SUMMARY;CHARSET=UTF-8:Nikolausfeier
DESCRIPTION;CHARSET=UTF-8:
LOCATION;CHARSET=UTF-8:
UID:0c79c513eec133ab0835b58005f84133@ce872fb9e5c5b24bfad4bad677ed96bc
END:VEVENT
END:VCALENDAR