BEGIN:VCALENDAR
VERSION:2.0
PRODID:< http://www.open2c.de/ >
METHOD:PUBLISH
X-PUBLISHED-TTL:PT12H
BEGIN:VEVENT
CREATED:20190925T072017Z
LAST-MODIFIED:20190925T072104Z
GEO:0.000000,0.000000
DTSTAMP:20260423T235259Z
DTSTART:20191016T220000Z
DTEND:20191016T220000Z
CATEGORIES:Kinder
SUMMARY;CHARSET=UTF-8:Informationsabend im Kindergarten
DESCRIPTION;CHARSET=UTF-8:
LOCATION;CHARSET=UTF-8:
UID:cc96df03823fd830b83a1472c448e4ee@ce872fb9e5c5b24bfad4bad677ed96bc
END:VEVENT
END:VCALENDAR