BEGIN:VCALENDAR
VERSION:2.0
PRODID:< http://www.open2c.de/ >
METHOD:PUBLISH
X-PUBLISHED-TTL:PT12H
BEGIN:VEVENT
CREATED:20190925T071853Z
LAST-MODIFIED:20190925T071956Z
GEO:0.000000,0.000000
DTSTAMP:20260423T234539Z
DTSTART:20191020T220000Z
DTEND:20191020T220000Z
CATEGORIES:Kinder
SUMMARY;CHARSET=UTF-8:Fototermin
DESCRIPTION;CHARSET=UTF-8:
LOCATION;CHARSET=UTF-8:
UID:ec05e11278f38197db2e5e307c841e6c@ce872fb9e5c5b24bfad4bad677ed96bc
END:VEVENT
END:VCALENDAR