BEGIN:VCALENDAR
VERSION:2.0
PRODID:< http://www.open2c.de/ >
METHOD:PUBLISH
X-PUBLISHED-TTL:PT12H
BEGIN:VEVENT
CREATED:20190219T121949Z
LAST-MODIFIED:20190219T122917Z
GEO:0.000000,0.000000
ORGANIZER;CN="CBW / PGR Rottenburg":MAILTO:Bernhard Sotzny
DTSTAMP:20260422T222441Z
DTSTART:20190312T230000Z
DTEND:20190312T230000Z
CATEGORIES:Vorträge
SUMMARY;CHARSET=UTF-8:Pilgerwege der Welt Jakobsweg (Spanien) – Via Francigena (Italien) – Shikoku (Japan)
DESCRIPTION;CHARSET=UTF-8: In seinem Vortrag erzählt Alexander Bürger von drei sehr unterschiedlichen Fuß-Pilgerschaften\\":\\" zunächst der Camino del Norte\\, der Küstenweg des spanischen Jakobswegs\\; dann der Via Francigena\\, ein Geheimtipp ist der Pilgerweg nach Rom\\; schließlich der Weg auf Shikoku\\, der zu 88 buddhistischen Klöstern führt.
 Organisator   CBW / PGR Rottenburg
 Kontakt   Bernhard Sotzny
LOCATION;CHARSET=UTF-8:kath. Pfarrheim St. Georg Rottenburg
UID:7b2fdbd7d28edc93639e54176a424e4e@ce872fb9e5c5b24bfad4bad677ed96bc
END:VEVENT
END:VCALENDAR