BEGIN:VCALENDAR
VERSION:2.0
PRODID:< http://www.open2c.de/ >
METHOD:PUBLISH
X-PUBLISHED-TTL:PT12H
BEGIN:VEVENT
CREATED:20190131T113841Z
LAST-MODIFIED:20190131T113939Z
GEO:0.000000,0.000000
DTSTAMP:20260423T045523Z
DTSTART:20190702T220000Z
DTEND:20190702T220000Z
CATEGORIES:Kinder
SUMMARY;CHARSET=UTF-8:Kindergarten geschlossen/Betriebsausflug
DESCRIPTION;CHARSET=UTF-8:
LOCATION;CHARSET=UTF-8:
UID:5ea94594516d8d708f31b683a8422005@ce872fb9e5c5b24bfad4bad677ed96bc
END:VEVENT
BEGIN:VEVENT
CREATED:20190131T112357Z
LAST-MODIFIED:20190131T112518Z
GEO:0.000000,0.000000
DTSTAMP:20260423T045523Z
DTSTART:20190724T220000Z
DTEND:20190724T220000Z
CATEGORIES:Kinder
SUMMARY;CHARSET=UTF-8:Abschiedsfeier und Gartenfest
DESCRIPTION;CHARSET=UTF-8:
LOCATION;CHARSET=UTF-8:
UID:d15cc44d0c58fc92b4cb3e9d7181cee2@ce872fb9e5c5b24bfad4bad677ed96bc
END:VEVENT
END:VCALENDAR