BEGIN:VCALENDAR
VERSION:2.0
PRODID:< http://www.open2c.de/ >
METHOD:PUBLISH
X-PUBLISHED-TTL:PT12H
BEGIN:VEVENT
CREATED:20190131T111107Z
LAST-MODIFIED:20190131T111219Z
GEO:0.000000,0.000000
DTSTAMP:20260423T061910Z
DTSTART:20190604T220000Z
DTEND:20190604T220000Z
CATEGORIES:Kinder
SUMMARY;CHARSET=UTF-8:Projektpräsentation zum Thema \\"Bauernhof\\"Gruppe Sonnenschein
DESCRIPTION;CHARSET=UTF-8:
LOCATION;CHARSET=UTF-8:
UID:bbf5b40606f79114311dabe274b95809@ce872fb9e5c5b24bfad4bad677ed96bc
END:VEVENT
BEGIN:VEVENT
CREATED:20190131T111829Z
LAST-MODIFIED:20190131T111930Z
GEO:0.000000,0.000000
DTSTAMP:20260423T061910Z
DTSTART:20190605T220000Z
DTEND:20190605T220000Z
CATEGORIES:Kinder
SUMMARY;CHARSET=UTF-8:Projektpräsentation zum Thema \\"Bauernhof\\" Gruppe Sonnenblume
DESCRIPTION;CHARSET=UTF-8:
LOCATION;CHARSET=UTF-8:
UID:a7595d2545075763362068a6ac1fc5d3@ce872fb9e5c5b24bfad4bad677ed96bc
END:VEVENT
BEGIN:VEVENT
CREATED:20190131T112032Z
LAST-MODIFIED:20190131T112248Z
GEO:0.000000,0.000000
DTSTAMP:20260423T061910Z
DTSTART:20190616T220000Z
DTEND:20190620T220000Z
CATEGORIES:Kinder
SUMMARY;CHARSET=UTF-8:Kindergarten geschlossen
DESCRIPTION;CHARSET=UTF-8:
LOCATION;CHARSET=UTF-8:
UID:1fccc9dc06cd8493577665a11a376702@ce872fb9e5c5b24bfad4bad677ed96bc
END:VEVENT
END:VCALENDAR