BEGIN:VCALENDAR
VERSION:2.0
PRODID:< http://www.open2c.de/ >
METHOD:PUBLISH
X-PUBLISHED-TTL:PT12H
BEGIN:VEVENT
CREATED:20190131T110352Z
LAST-MODIFIED:20190131T110434Z
GEO:0.000000,0.000000
DTSTAMP:20260423T085407Z
DTSTART:20190410T220000Z
DTEND:20190410T220000Z
CATEGORIES:Kinder
SUMMARY;CHARSET=UTF-8:Osterfeier mit Eltern
DESCRIPTION;CHARSET=UTF-8:
LOCATION;CHARSET=UTF-8:
UID:3f3489ccaedf53f76307d3928189371d@ce872fb9e5c5b24bfad4bad677ed96bc
END:VEVENT
END:VCALENDAR