BEGIN:VCALENDAR
VERSION:2.0
PRODID:< http://www.open2c.de/ >
METHOD:PUBLISH
X-PUBLISHED-TTL:PT12H
BEGIN:VEVENT
CREATED:20190115T120617Z
LAST-MODIFIED:20190115T121131Z
GEO:0.000000,0.000000
ORGANIZER;CN="\\"Gmüatliche Rottenburger\\"":MAILTO:Josef Ehner
DTSTAMP:20260422T234033Z
DTSTART:20190216T180000Z
DTEND:20190216T180000Z
CATEGORIES:Verschiedenes
SUMMARY;CHARSET=UTF-8:\\"Gmüatliche Rottenburger\\" Faschingsgaudi-Kappenabend
DESCRIPTION;CHARSET=UTF-8:\\"Gmüatliche Rottenburger\\" Faschingsgaudi-Kappenabend. Beginn 19 Uhr im Vereinslokal Wolfsteiner. Musik von Karl und Rudi. Gäste sind gerne willkommen.
 Organisator   \\"Gmüatliche Rottenburger\\"
 Kontakt   Josef Ehner
LOCATION;CHARSET=UTF-8:Gasthaus Wolfsteiner
UID:ea00e244e5b7b7d2da5b2f319a432f72@ce872fb9e5c5b24bfad4bad677ed96bc
END:VEVENT
END:VCALENDAR