BEGIN:VCALENDAR
VERSION:2.0
PRODID:< http://www.open2c.de/ >
METHOD:PUBLISH
X-PUBLISHED-TTL:PT12H
BEGIN:VEVENT
CREATED:20181010T085954Z
LAST-MODIFIED:20181012T071522Z
GEO:0.000000,0.000000
ORGANIZER;CN="Musikschule Train"DTSTAMP:20260421T031714Z
DTSTART:20181117T180000Z
DTEND:20181117T180000Z
SUMMARY;CHARSET=UTF-8:Festkonzert der Musikschule Train
DESCRIPTION;CHARSET=UTF-8:Festliches Konzert der Trainer Musikschule mit ausgezeichneten Solisten\\, Ensembles sowie der Lehrercombo anlässlich des Jahrestages der Gründung der Musikschule Train als Außenstelle der Musikschule Rottenburg. Die Bewirtung übernimmt das Kreativforum Schlossplatz e. V. Eintritt frei.
 Organisator   Musikschule Train
LOCATION;CHARSET=UTF-8:Train Zehentstadl
UID:6c8fba9b9f82710477d40e7311a164b5@ce872fb9e5c5b24bfad4bad677ed96bc
END:VEVENT
END:VCALENDAR