BEGIN:VCALENDAR
VERSION:2.0
PRODID:< http://www.open2c.de/ >
METHOD:PUBLISH
X-PUBLISHED-TTL:PT12H
BEGIN:VEVENT
CREATED:20180919T082259Z
LAST-MODIFIED:20180919T082352Z
GEO:0.000000,0.000000
DTSTAMP:20260423T141753Z
DTSTART:20181202T230000Z
DTEND:20181202T230000Z
CATEGORIES:Kinder
SUMMARY;CHARSET=UTF-8:NIkolausfeier Gruppe Sonnenschein
DESCRIPTION;CHARSET=UTF-8:
LOCATION;CHARSET=UTF-8:
UID:21aa22b08be50ffe5eec19846941ff77@ce872fb9e5c5b24bfad4bad677ed96bc
END:VEVENT
BEGIN:VEVENT
CREATED:20180919T082409Z
LAST-MODIFIED:20180919T082514Z
GEO:0.000000,0.000000
DTSTAMP:20260423T141753Z
DTSTART:20181203T230000Z
DTEND:20181203T230000Z
CATEGORIES:Kinder
SUMMARY;CHARSET=UTF-8:Nikolausfeier Gruppe Sonnenblume
DESCRIPTION;CHARSET=UTF-8:
LOCATION;CHARSET=UTF-8:
UID:8f55286bbee78c9305dd36a375b91ea2@ce872fb9e5c5b24bfad4bad677ed96bc
END:VEVENT
BEGIN:VEVENT
CREATED:20180919T082537Z
LAST-MODIFIED:20180919T082633Z
GEO:0.000000,0.000000
DTSTAMP:20260423T141753Z
DTSTART:20181219T230000Z
DTEND:20181219T230000Z
CATEGORIES:Kinder
SUMMARY;CHARSET=UTF-8:Weihnachtsfeier
DESCRIPTION;CHARSET=UTF-8:
LOCATION;CHARSET=UTF-8:
UID:c8434e577cbc09a483b234bc2b5a1a4a@ce872fb9e5c5b24bfad4bad677ed96bc
END:VEVENT
END:VCALENDAR