BEGIN:VCALENDAR
VERSION:2.0
PRODID:< http://www.open2c.de/ >
METHOD:PUBLISH
X-PUBLISHED-TTL:PT12H
BEGIN:VEVENT
CREATED:20170919T104055Z
LAST-MODIFIED:20170919T104157Z
GEO:0.000000,0.000000
DTSTAMP:20260424T083030Z
DTSTART:20171110T160000Z
DTEND:20171110T160000Z
CATEGORIES:Kinder
SUMMARY;CHARSET=UTF-8:St. Martinsandacht und Laternenzug
DESCRIPTION;CHARSET=UTF-8:
LOCATION;CHARSET=UTF-8:
UID:e9c2619fcb38149a33ce87f6992a30e7@ce872fb9e5c5b24bfad4bad677ed96bc
END:VEVENT
BEGIN:VEVENT
CREATED:20170919T104256Z
LAST-MODIFIED:20170919T104353Z
GEO:0.000000,0.000000
DTSTAMP:20260424T083030Z
DTSTART:20171127T230000Z
DTEND:20171127T230000Z
CATEGORIES:Kinder
SUMMARY;CHARSET=UTF-8:Theaterfahrt nach Landshut
DESCRIPTION;CHARSET=UTF-8:
LOCATION;CHARSET=UTF-8:
UID:50a6640860b3c47e090e514e29218203@ce872fb9e5c5b24bfad4bad677ed96bc
END:VEVENT
END:VCALENDAR