BEGIN:VCALENDAR
VERSION:1.0
PRODID:Open2CKalenderExportV11
BEGIN:VEVENT
DTSTAMP:20200304T112645Z
DTSTART:20200630T220000Z
DTEND:20200630T220000Z
CATEGORIES:Kinder
SUMMARY;CHARSET=UTF-8:Betriebsausflug - Kindergarten geschlossen
DESCRIPTION;CHARSET=UTF-8:
LOCATION;CHARSET=UTF-8:
UID:b0e686c7aba03515db38741e65df26de-8ea44dabaf421b7473e3e542a1e496e7
PRIORITY:3
END:VEVENT
BEGIN:VEVENT
DTSTAMP:20200123T113123Z
DTSTART:20200721T220000Z
DTEND:20200721T220000Z
CATEGORIES:Kinder
SUMMARY;CHARSET=UTF-8:Abschlussgottesdienst und Gartenfest
DESCRIPTION;CHARSET=UTF-8:
LOCATION;CHARSET=UTF-8:
UID:270a60321b3c4c277f49ddf1b69ab183-60230025a79ade5675670f38061c09a1
PRIORITY:3
END:VEVENT
END:VCALENDAR