BEGIN:VCALENDAR
VERSION:1.0
PRODID:Open2CKalenderExportV11
BEGIN:VEVENT
DTSTAMP:20200123T112351Z
DTSTART:20200607T220000Z
DTEND:20200611T220000Z
CATEGORIES:Kinder
SUMMARY;CHARSET=UTF-8:Pfingstferien
DESCRIPTION;CHARSET=UTF-8:
LOCATION;CHARSET=UTF-8:
UID:072b34c48a0ebff1f4242aae083a0caa-f026efcd334ae0c640d09196df112cd1
PRIORITY:3
END:VEVENT
END:VCALENDAR