BEGIN:VCALENDAR
VERSION:1.0
PRODID:Open2CKalenderExportV11
BEGIN:VEVENT
DTSTAMP:20200123T112237Z
DTSTART:20200521T220000Z
DTEND:20200521T220000Z
CATEGORIES:Kinder
SUMMARY;CHARSET=UTF-8:Kindergarten geschlossen
DESCRIPTION;CHARSET=UTF-8:
LOCATION;CHARSET=UTF-8:
UID:179a5aa0d8b78a4b8eab5a302a3cd2b1-be8e32b6d924ce868b0eb44b23dd3642
PRIORITY:3
END:VEVENT
END:VCALENDAR