BEGIN:VCALENDAR
VERSION:1.0
PRODID:Open2CKalenderExportV11
BEGIN:VEVENT
DTSTAMP:20200123T111942Z
DTSTART:20200331T220000Z
DTEND:20200331T220000Z
CATEGORIES:Kinder
SUMMARY;CHARSET=UTF-8:Wir fahren zur Polizei (Gruppe Sonnenschein)
DESCRIPTION;CHARSET=UTF-8:
LOCATION;CHARSET=UTF-8:
UID:1fab11cd1cd149bce206c2d44b360676-64adcd73ab11ed45f42cda5b488187b7
PRIORITY:3
END:VEVENT
BEGIN:VEVENT
DTSTAMP:20200123T112118Z
DTSTART:20200413T220000Z
DTEND:20200414T220000Z
CATEGORIES:Kinder
SUMMARY;CHARSET=UTF-8:Osterferien
DESCRIPTION;CHARSET=UTF-8:
LOCATION;CHARSET=UTF-8:
UID:c267fc34e94054c390741213b57aaf6e-668b1eb454812d21661eb8b406c153bd
PRIORITY:3
END:VEVENT
END:VCALENDAR