BEGIN:VCALENDAR
VERSION:1.0
PRODID:Open2CKalenderExportV11
BEGIN:VEVENT
DTSTAMP:20200123T111625Z
DTSTART:20200223T230000Z
DTEND:20200224T230000Z
CATEGORIES:Kinder
SUMMARY;CHARSET=UTF-8:Faschingsferien
DESCRIPTION;CHARSET=UTF-8:
LOCATION;CHARSET=UTF-8:
UID:64ef95a760eb6fd2a3be45a232539e95-5a907f9dc0bd5eea1fb6f01a1ea784fa
PRIORITY:3
END:VEVENT
END:VCALENDAR