BEGIN:VCALENDAR
VERSION:1.0
PRODID:Open2CKalenderExportV11
BEGIN:VEVENT
DTSTAMP:20190925T073353Z
DTSTART:20200106T230000Z
DTEND:20200106T230000Z
CATEGORIES:Kinder
SUMMARY;CHARSET=UTF-8:1. Kindergartentag 2020
DESCRIPTION;CHARSET=UTF-8:
LOCATION;CHARSET=UTF-8:
UID:3a793f381ae10400d2e058e6abc7a9ea-dd73df1ef6f60e608423cae45ebbf2f8
PRIORITY:3
END:VEVENT
END:VCALENDAR