BEGIN:VCALENDAR
VERSION:1.0
PRODID:Open2CKalenderExportV11
BEGIN:VEVENT
DTSTAMP:20190925T072616Z
DTSTART:20191111T230000Z
DTEND:20191111T230000Z
CATEGORIES:Kinder
SUMMARY;CHARSET=UTF-8:St. Martinsandacht und Laternenzug
DESCRIPTION;CHARSET=UTF-8:
LOCATION;CHARSET=UTF-8:
UID:f802ba8116ce26050f6e38205f4d4db5-8b8de3e1066e9c9079dd837d6b9881bc
PRIORITY:3
END:VEVENT
END:VCALENDAR