BEGIN:VCALENDAR
VERSION:1.0
PRODID:Open2CKalenderExportV11
BEGIN:VEVENT
DTSTAMP:20190925T072433Z
DTSTART:20191022T220000Z
DTEND:20191022T220000Z
CATEGORIES:Kinder
SUMMARY;CHARSET=UTF-8:Fahrt zur Bäckerei Hatzl ( Sonnenschein )
DESCRIPTION;CHARSET=UTF-8:
LOCATION;CHARSET=UTF-8:
UID:cb8a81eff9a6555d886699643afdb1b2-1e00e709a147e033cd6ffd1a4c9b099b
PRIORITY:3
END:VEVENT
END:VCALENDAR