BEGIN:VCALENDAR
VERSION:1.0
PRODID:Open2CKalenderExportV11
BEGIN:VEVENT
DTSTAMP:20190131T111219Z
DTSTART:20190604T220000Z
DTEND:20190604T220000Z
CATEGORIES:Kinder
SUMMARY;CHARSET=UTF-8:Projektpräsentation zum Thema "Bauernhof"Gruppe Sonnenschein
DESCRIPTION;CHARSET=UTF-8:
LOCATION;CHARSET=UTF-8:
UID:f0e5d47346f36bf66d34eb73f0f471b0-71fe1bb67bbaef65409e597115b8707d
PRIORITY:3
END:VEVENT
BEGIN:VEVENT
DTSTAMP:20190131T111930Z
DTSTART:20190605T220000Z
DTEND:20190605T220000Z
CATEGORIES:Kinder
SUMMARY;CHARSET=UTF-8:Projektpräsentation zum Thema "Bauernhof" Gruppe Sonnenblume
DESCRIPTION;CHARSET=UTF-8:
LOCATION;CHARSET=UTF-8:
UID:8bf0bedd8a8cb12fca6dbc1ed35e4d54-080eb1e2a5b06ee2de9151bc70055a3f
PRIORITY:3
END:VEVENT
BEGIN:VEVENT
DTSTAMP:20190131T112248Z
DTSTART:20190616T220000Z
DTEND:20190620T220000Z
CATEGORIES:Kinder
SUMMARY;CHARSET=UTF-8:Kindergarten geschlossen
DESCRIPTION;CHARSET=UTF-8:
LOCATION;CHARSET=UTF-8:
UID:85b003d34164d8f9674bc6fd558a8b90-be8e32b6d924ce868b0eb44b23dd3642
PRIORITY:3
END:VEVENT
END:VCALENDAR