BEGIN:VCALENDAR
VERSION:1.0
PRODID:Open2CKalenderExportV11
BEGIN:VEVENT
DTSTAMP:20190131T110635Z
DTSTART:20190508T220000Z
DTEND:20190508T220000Z
CATEGORIES:Kinder
SUMMARY;CHARSET=UTF-8:Schnuppertag für die Schulanfänger/Grundschule
DESCRIPTION;CHARSET=UTF-8:
LOCATION;CHARSET=UTF-8:
UID:9aca667fd894c92475196c189e8aed9a-c5647fe10b023a5f05c356b3e47f8d7b
PRIORITY:3
END:VEVENT
BEGIN:VEVENT
DTSTAMP:20190131T110810Z
DTSTART:20190522T220000Z
DTEND:20190522T220000Z
CATEGORIES:Kinder
SUMMARY;CHARSET=UTF-8:Kindergarten geschlossen/Schulanfängerausflug
DESCRIPTION;CHARSET=UTF-8:
LOCATION;CHARSET=UTF-8:
UID:85686eb78180f5a62321603b1245281f-79798ee21586248c85f948a7ffd2a898
PRIORITY:3
END:VEVENT
BEGIN:VEVENT
DTSTAMP:20190131T110959Z
DTSTART:20190530T220000Z
DTEND:20190530T220000Z
CATEGORIES:Kinder
SUMMARY;CHARSET=UTF-8:Kindergarten geschlossen
DESCRIPTION;CHARSET=UTF-8:
LOCATION;CHARSET=UTF-8:
UID:937c59a342e2b20f17d5bd413fccf269-be8e32b6d924ce868b0eb44b23dd3642
PRIORITY:3
END:VEVENT
END:VCALENDAR