BEGIN:VCALENDAR
VERSION:1.0
PRODID:Open2CKalenderExportV11
BEGIN:VEVENT
DTSTAMP:20190131T110129Z
DTSTART:20190303T230000Z
DTEND:20190304T230000Z
CATEGORIES:Kinder
SUMMARY;CHARSET=UTF-8:Kindergarten geschlossen
DESCRIPTION;CHARSET=UTF-8:
LOCATION;CHARSET=UTF-8:
UID:8dabd5d333eefcd7f28a7da850f7d042-be8e32b6d924ce868b0eb44b23dd3642
PRIORITY:3
END:VEVENT
BEGIN:VEVENT
DTSTAMP:20190131T110245Z
DTSTART:20190304T230000Z
DTEND:20190304T230000Z
CATEGORIES:Kinder
SUMMARY;CHARSET=UTF-8:Kindergarten geschlossen
DESCRIPTION;CHARSET=UTF-8:
LOCATION;CHARSET=UTF-8:
UID:6e0ac4ef67417bc248f230a16c545140-be8e32b6d924ce868b0eb44b23dd3642
PRIORITY:3
END:VEVENT
END:VCALENDAR