BEGIN:VCALENDAR
VERSION:1.0
PRODID:Open2CKalenderExportV11
BEGIN:VEVENT
DTSTAMP:20190131T105620Z
DTSTART:20190204T230000Z
DTEND:20190204T230000Z
CATEGORIES:Kinder
SUMMARY;CHARSET=UTF-8:Anmeldung für das Kindergartenjahr 2019/20
DESCRIPTION;CHARSET=UTF-8:
LOCATION;CHARSET=UTF-8:
UID:2588c40f56e5b39b6ef8bc5ea03b512a-fbda296547957909a279f6eefa86afc6
PRIORITY:3
END:VEVENT
BEGIN:VEVENT
DTSTAMP:20190131T105740Z
DTSTART:20190213T230000Z
DTEND:20190213T230000Z
CATEGORIES:Kinder
SUMMARY;CHARSET=UTF-8:Gemeinsame Turnstunde in der Grundschule
DESCRIPTION;CHARSET=UTF-8:
LOCATION;CHARSET=UTF-8:
UID:5785a757bba83259f8a9ac8def2d8ff2-6f821a8d5d1c3aad4def634e48124f8e
PRIORITY:3
END:VEVENT
BEGIN:VEVENT
DTSTAMP:20190131T105924Z
DTSTART:20190227T230000Z
DTEND:20190227T230000Z
CATEGORIES:Kinder
SUMMARY;CHARSET=UTF-8:Fasching im Kindergarten
DESCRIPTION;CHARSET=UTF-8:
LOCATION;CHARSET=UTF-8:
UID:276401580b263dbfb233c14eb92fcd51-66ff087568b28794753798f3db855cb9
PRIORITY:3
END:VEVENT
END:VCALENDAR