BEGIN:VCALENDAR
VERSION:1.0
PRODID:Open2CKalenderExportV11
BEGIN:VEVENT
DTSTAMP:20190115T121131Z
DTSTART:20190216T180000Z
DTEND:20190216T180000Z
CATEGORIES:Verschiedenes
SUMMARY;CHARSET=UTF-8:"Gmüatliche Rottenburger" Faschingsgaudi-Kappenabend
DESCRIPTION;CHARSET=UTF-8:"Gmüatliche Rottenburger" Faschingsgaudi-Kappenabend. Beginn 19 Uhr im Vereinslokal Wolfsteiner. Musik von Karl und Rudi. Gäste sind gerne willkommen. | Organisator   "Gmüatliche Rottenburger" | Kontakt   Josef Ehner
LOCATION;CHARSET=UTF-8:Gasthaus Wolfsteiner
UID:4f1280a6a771e2ba5525ded5424214eb-607338e2a2238708325a92936309e5e6
PRIORITY:3
END:VEVENT
END:VCALENDAR