BEGIN:VCALENDAR
VERSION:1.0
PRODID:Open2CKalenderExportV11
BEGIN:VEVENT
DTSTAMP:20180919T082156Z
DTSTART:20181101T230000Z
DTEND:20181101T230000Z
CATEGORIES:Kinder
SUMMARY;CHARSET=UTF-8:Schließtag
DESCRIPTION;CHARSET=UTF-8:
LOCATION;CHARSET=UTF-8:
UID:214f46b8fd7cfefd43db8140d8ea6381-043383c1e1fe31a28650bb46cdf92c62
PRIORITY:3
END:VEVENT
BEGIN:VEVENT
DTSTAMP:20180927T103806Z
DTSTART:20181112T230000Z
DTEND:20181112T230000Z
CATEGORIES:Kinder
SUMMARY;CHARSET=UTF-8:St. Martinsfest 2018
DESCRIPTION;CHARSET=UTF-8:
LOCATION;CHARSET=UTF-8:
UID:68638e9aa0b56b2e70bab3762626ebee-a50ddbd290257535e14be2f3d0b9c6e2
PRIORITY:3
END:VEVENT
END:VCALENDAR