BEGIN:VCALENDAR
VERSION:1.0
PRODID:Open2CKalenderExportV11
BEGIN:VEVENT
DTSTAMP:20180919T074859Z
DTSTART:20181003T220000Z
DTEND:20181004T220000Z
CATEGORIES:Kinder
SUMMARY;CHARSET=UTF-8:Schließtage
DESCRIPTION;CHARSET=UTF-8:
LOCATION;CHARSET=UTF-8:
UID:7ed9631fa1c061ca8c57dd1a9947b7ed-7f6266d89c637e894e097a68deb530e9
PRIORITY:3
END:VEVENT
BEGIN:VEVENT
DTSTAMP:20180919T081853Z
DTSTART:20181011T170000Z
DTEND:20181011T170000Z
CATEGORIES:Kinder
SUMMARY;CHARSET=UTF-8:Informationsabend
DESCRIPTION;CHARSET=UTF-8:
LOCATION;CHARSET=UTF-8:
UID:7feecb1e4d65d74b6780f0d0689e78a9-a0f87c06de206d6aa36ccd4aca077b43
PRIORITY:3
END:VEVENT
BEGIN:VEVENT
DTSTAMP:20180919T082039Z
DTSTART:20181014T220000Z
DTEND:20181014T220000Z
CATEGORIES:Kinder
SUMMARY;CHARSET=UTF-8:Fototermin
DESCRIPTION;CHARSET=UTF-8:
LOCATION;CHARSET=UTF-8:
UID:90d5d41502badf47732f6c71769f77a7-852bbc97c7cf32e91cb29d39f98d31cd
PRIORITY:3
END:VEVENT
END:VCALENDAR