BEGIN:VCALENDAR
VERSION:1.0
PRODID:Open2CKalenderExportV11
BEGIN:VEVENT
DTSTAMP:20180314T124636Z
DTSTART:20180531T220000Z
DTEND:20180531T220000Z
CATEGORIES:Kinder
SUMMARY;CHARSET=UTF-8:Kindergarten geschlossen
DESCRIPTION;CHARSET=UTF-8:
LOCATION;CHARSET=UTF-8:
UID:d0a5b41b22e00f0e588daef9a5123c84-be8e32b6d924ce868b0eb44b23dd3642
PRIORITY:3
END:VEVENT
BEGIN:VEVENT
DTSTAMP:20180314T120641Z
DTSTART:20180605T220000Z
DTEND:20180605T220000Z
CATEGORIES:Kinder
SUMMARY;CHARSET=UTF-8:Familienwanderung in den Märchenwald
DESCRIPTION;CHARSET=UTF-8:
LOCATION;CHARSET=UTF-8:
UID:680f2dcc963bcb380da82daeb9597370-83f0c257fe7e18d19a62d6a8d477a01b
PRIORITY:3
END:VEVENT
END:VCALENDAR