BEGIN:VCALENDAR
VERSION:1.0
PRODID:Open2CKalenderExportV11
BEGIN:VEVENT
DTSTAMP:20180314T121804Z
DTSTART:20180805T220000Z
DTEND:20180826T220000Z
CATEGORIES:Kinder
SUMMARY;CHARSET=UTF-8:Sommerferien
DESCRIPTION;CHARSET=UTF-8:
LOCATION;CHARSET=UTF-8:
UID:3234ecf5638114cca7f8157897a4441a-a55a378cd40b63ca505f33bda3ff7032
PRIORITY:3
END:VEVENT
BEGIN:VEVENT
DTSTAMP:20180314T122336Z
DTSTART:20180827T220000Z
DTEND:20180827T220000Z
CATEGORIES:Kinder
SUMMARY;CHARSET=UTF-8:Kindergartenbeginn
DESCRIPTION;CHARSET=UTF-8:
LOCATION;CHARSET=UTF-8:
UID:dc34032ab68675f993b7cb4a2918e881-4def183554e5d46888304b518f0b3184
PRIORITY:3
END:VEVENT
END:VCALENDAR