BEGIN:VCALENDAR
VERSION:1.0
PRODID:Open2CKalenderExportV11
BEGIN:VEVENT
DTSTAMP:20180314T121601Z
DTSTART:20180725T220000Z
DTEND:20180725T220000Z
CATEGORIES:Kinder
SUMMARY;CHARSET=UTF-8:Abschlussfeier
DESCRIPTION;CHARSET=UTF-8:
LOCATION;CHARSET=UTF-8:
UID:3b2087b86998dc31f1abd8263bd113fa-319b63c146cf859880cdef6299193ac8
PRIORITY:3
END:VEVENT
END:VCALENDAR