BEGIN:VCALENDAR
VERSION:1.0
PRODID:Open2CKalenderExportV11
BEGIN:VEVENT
DTSTAMP:20180314T121224Z
DTSTART:20180510T220000Z
DTEND:20180510T220000Z
CATEGORIES:Kinder
SUMMARY;CHARSET=UTF-8:Kindergarten nicht geöffnet
DESCRIPTION;CHARSET=UTF-8:
LOCATION;CHARSET=UTF-8:
UID:79a5e13061ac60864ff011997e341053-a0a054d3c8697ed797ec94849e5aa939
PRIORITY:3
END:VEVENT
END:VCALENDAR