BEGIN:VCALENDAR
VERSION:1.0
PRODID:Open2CKalenderExportV11
BEGIN:VEVENT
DTSTAMP:20180314T120828Z
DTSTART:20180429T220000Z
DTEND:20180429T220000Z
CATEGORIES:Kinder
SUMMARY;CHARSET=UTF-8:Kindergarten geschlossen
DESCRIPTION;CHARSET=UTF-8:
LOCATION;CHARSET=UTF-8:
UID:e8f8b82dbf0064f216d9c21578b5d27c-be8e32b6d924ce868b0eb44b23dd3642
PRIORITY:3
END:VEVENT
END:VCALENDAR