BEGIN:VCALENDAR
VERSION:1.0
PRODID:Open2CKalenderExportV11
BEGIN:VEVENT
DTSTAMP:20180314T120403Z
DTSTART:20180321T230000Z
DTEND:20180321T230000Z
CATEGORIES:Kinder
SUMMARY;CHARSET=UTF-8:Osterfeier im Kindergarten
DESCRIPTION;CHARSET=UTF-8:
LOCATION;CHARSET=UTF-8:
UID:6134b6094ce411fe8ac134682f6c17a7-8d19c94ac99332605ae2a175ee3ee3b9
PRIORITY:3
END:VEVENT
END:VCALENDAR