BEGIN:VCALENDAR
VERSION:1.0
PRODID:Open2CKalenderExportV11
BEGIN:VEVENT
DTSTAMP:20170919T104820Z
DTSTART:20171209T230000Z
DTEND:20171209T230000Z
CATEGORIES:Kinder
SUMMARY;CHARSET=UTF-8:Schattentheater/Weihnachtsmarkt Rottenburg
DESCRIPTION;CHARSET=UTF-8:
LOCATION;CHARSET=UTF-8:
UID:cc3af5736cab8c0198ce47a968a6fa45-ef3e1543cf95ab85a1904bd1bedc0209
PRIORITY:3
END:VEVENT
END:VCALENDAR