BEGIN:VCALENDAR
VERSION:1.0
PRODID:Open2CKalenderExportV11
BEGIN:VEVENT
DTSTAMP:20170916T120115Z
DTSTART:20171001T130000Z
DTEND:20171001T130000Z
SUMMARY;CHARSET=UTF-8:Hänsel und Gretel - Kinder-Oper
DESCRIPTION;CHARSET=UTF-8: „Hänsel und Gretel“ - große Oper für kleine und große Leute. Mit einer kindgerechten Bearbeitung von Engelbert Humperdincks Oper „Hänsel und Gretel“ \ningen Schüler der Musikschule unter der Regie von Sibylle Blaimer und Vivana Araiza erstmals eine große Oper auf die Bühne. Auf die Mitwirkenden zugeschnittene Dialoge in bayerischer Sprache führen durch die Handlung. Die Musik hat der ehemalige Musikschulschüler Thomas Stadler speziell für das Musikschulorchester eingerichtet. Eintritt frei | Organisator   Musikschule
LOCATION;CHARSET=UTF-8:Mehrzweckhalle
UID:46281566301eaf60553018c94a8c8c40-2fab1838c4bfed976c4b7eaef2ec42f6
PRIORITY:3
END:VEVENT
END:VCALENDAR